BEGIN:VCALENDAR
VERSION:2.0
PRODID:-//Santuário de Fátima//NONSGML SF2ICAL v1.0//ES
METHOD:PUBLISH
X-WR-CALNAME:Santuário de Fátima
X-ORIGINAL-URL:https://www.fatima.pt/
X-WR-CALDESC:Events for Santuário de Fátima
BEGIN:VEVENT
UID:f8890879-d9bb-4849-8211-a99cc9a6fe3e
DTSTAMP:20260423T032413Z
DTSTART;VALUE=DATE:20260801
DTEND;VALUE=DATE:20260802
LOCATION:
SUMMARY:Primeiro Sábado
DESCRIPTION:
END:VEVENT
END:VCALENDAR
