BEGIN:VCALENDAR
VERSION:2.0
PRODID:-//Santuário de Fátima//NONSGML SF2ICAL v1.0//ES
METHOD:PUBLISH
X-WR-CALNAME:Santuário de Fátima
X-ORIGINAL-URL:https://www.fatima.pt/
X-WR-CALDESC:Events for Santuário de Fátima
BEGIN:VEVENT
UID:07ebf71b-9795-420f-ab16-56fd0fc46759
DTSTAMP:20260423T014104Z
DTSTART;VALUE=DATE:20260905
DTEND;VALUE=DATE:20260906
LOCATION:
SUMMARY:Primeiro Sábado
DESCRIPTION:
END:VEVENT
END:VCALENDAR
