BEGIN:VCALENDAR
VERSION:2.0
PRODID:-//Santuário de Fátima//NONSGML SF2ICAL v1.0//FR
METHOD:PUBLISH
X-WR-CALNAME:Santuário de Fátima
X-ORIGINAL-URL:https://www.fatima.pt/
X-WR-CALDESC:Events for Santuário de Fátima
BEGIN:VEVENT
UID:4939b9c9-451c-4683-9b89-0c0a55307d80
DTSTAMP:20260423T180539Z
DTSTART;VALUE=DATE:20320101
DTEND;VALUE=DATE:20320102
LOCATION:
SUMMARY:Aniversário do Sagrado Lausperene
DESCRIPTION:
END:VEVENT
END:VCALENDAR
