BEGIN:VCALENDAR
VERSION:2.0
PRODID:-//Santuário de Fátima//NONSGML SF2ICAL v1.0//FR
METHOD:PUBLISH
X-WR-CALNAME:Santuário de Fátima
X-ORIGINAL-URL:https://www.fatima.pt/
X-WR-CALDESC:Events for Santuário de Fátima
BEGIN:VEVENT
UID:3406c4f6-ce37-4a91-ba84-0f7ec65669c2
DTSTAMP:20260423T133018Z
DTSTART;VALUE=DATE:20281113
DTEND;VALUE=DATE:20281114
LOCATION:Santíssima Trindade
SUMMARY:Dedicação da Basílica da Santíssima Trindade
DESCRIPTION:
END:VEVENT
END:VCALENDAR
