BEGIN:VCALENDAR
VERSION:2.0
PRODID:-//Santuário de Fátima//NONSGML SF2ICAL v1.0//FR
METHOD:PUBLISH
X-WR-CALNAME:Santuário de Fátima
X-ORIGINAL-URL:https://www.fatima.pt/
X-WR-CALDESC:Events for Santuário de Fátima
BEGIN:VEVENT
UID:8b9a7b6a-d278-4707-9eef-cc3cbf7369e3
DTSTAMP:20260423T152925Z
DTSTART;VALUE=DATE:20320713
DTEND;VALUE=DATE:20320714
LOCATION:
SUMMARY:Peregrinação Aniversária
DESCRIPTION:
END:VEVENT
END:VCALENDAR
