BEGIN:VCALENDAR
VERSION:2.0
PRODID:-//Santuário de Fátima//NONSGML SF2ICAL v1.0//FR
METHOD:PUBLISH
X-WR-CALNAME:Santuário de Fátima
X-ORIGINAL-URL:https://www.fatima.pt/
X-WR-CALDESC:Events for Santuário de Fátima
BEGIN:VEVENT
UID:e8eb181b-e4f6-48ba-b765-b9b084011203
DTSTAMP:20260422T061603Z
DTSTART;VALUE=DATE:20260501
DTEND;VALUE=DATE:20260503
LOCATION:
SUMMARY:Peregrinação de Idosos
DESCRIPTION:
END:VEVENT
END:VCALENDAR
