BEGIN:VCALENDAR
VERSION:2.0
PRODID:-//Santuário de Fátima//NONSGML SF2ICAL v1.0//FR
METHOD:PUBLISH
X-WR-CALNAME:Santuário de Fátima
X-ORIGINAL-URL:https://www.fatima.pt/
X-WR-CALDESC:Events for Santuário de Fátima
BEGIN:VEVENT
UID:0269f299-e9eb-4542-9746-5275d6932f21
DTSTAMP:20260423T153446Z
DTSTART;VALUE=DATE:20320812
DTEND;VALUE=DATE:20320813
LOCATION:
SUMMARY:Peregrinação Internacional Aniversária
DESCRIPTION:
END:VEVENT
END:VCALENDAR
