BEGIN:VCALENDAR
VERSION:2.0
PRODID:-//Santuário de Fátima//NONSGML SF2ICAL v1.0//FR
METHOD:PUBLISH
X-WR-CALNAME:Santuário de Fátima
X-ORIGINAL-URL:https://www.fatima.pt/
X-WR-CALDESC:Events for Santuário de Fátima
BEGIN:VEVENT
UID:d9912961-c431-425d-b053-898fbc4b7aaf
DTSTAMP:20260423T175046Z
DTSTART;VALUE=DATE:20340812
DTEND;VALUE=DATE:20340813
LOCATION:
SUMMARY:Peregrinação Internacional Aniversária
DESCRIPTION:
END:VEVENT
END:VCALENDAR
