BEGIN:VCALENDAR
VERSION:2.0
PRODID:-//Santuário de Fátima//NONSGML SF2ICAL v1.0//FR
METHOD:PUBLISH
X-WR-CALNAME:Santuário de Fátima
X-ORIGINAL-URL:https://www.fatima.pt/
X-WR-CALDESC:Events for Santuário de Fátima
BEGIN:VEVENT
UID:328ac27a-f8b2-4b81-b71d-7aa3d576bca4
DTSTAMP:20260423T181638Z
DTSTART;VALUE=DATE:20300213
DTEND;VALUE=DATE:20300214
LOCATION:
SUMMARY:Peregrinação Mensal
DESCRIPTION:
END:VEVENT
END:VCALENDAR
