BEGIN:VCALENDAR
VERSION:2.0
PRODID:-//Santuário de Fátima//NONSGML SF2ICAL v1.0//FR
METHOD:PUBLISH
X-WR-CALNAME:Santuário de Fátima
X-ORIGINAL-URL:https://www.fatima.pt/
X-WR-CALDESC:Events for Santuário de Fátima
BEGIN:VEVENT
UID:5f5fafaf-2e3c-44fb-89df-0e07e7ec2d8b
DTSTAMP:20260422T020045Z
DTSTART;VALUE=DATE:20260423
DTEND;VALUE=DATE:20260427
LOCATION:
SUMMARY:Retiro de Doentes
DESCRIPTION:
END:VEVENT
END:VCALENDAR
