BEGIN:VCALENDAR
VERSION:2.0
PRODID:-//Santuário de Fátima//NONSGML SF2ICAL v1.0//FR
METHOD:PUBLISH
X-WR-CALNAME:Santuário de Fátima
X-ORIGINAL-URL:https://www.fatima.pt/
X-WR-CALDESC:Events for Santuário de Fátima
BEGIN:VEVENT
UID:183ce8cc-d225-493a-b057-495cfbc60c0f
DTSTAMP:20260422T062412Z
DTSTART:20260603T201500Z
DTEND:20260603T211500Z
LOCATION:
SUMMARY:Visita Temática à Exposição Temporária
DESCRIPTION:
END:VEVENT
END:VCALENDAR
