BEGIN:VCALENDAR
VERSION:2.0
PRODID:-//Santuário de Fátima//NONSGML SF2ICAL v1.0//FR
METHOD:PUBLISH
X-WR-CALNAME:Santuário de Fátima
X-ORIGINAL-URL:https://www.fatima.pt/
X-WR-CALDESC:Events for Santuário de Fátima
BEGIN:VEVENT
UID:cfff3f0f-ba53-4a91-9ebe-9e8e5b0f97dc
DTSTAMP:20260423T171752Z
DTSTART:20260805T201500Z
DTEND:20260805T211500Z
LOCATION:
SUMMARY:Visita Temática à Exposição Temporária
DESCRIPTION:
END:VEVENT
END:VCALENDAR
