BEGIN:VCALENDAR
VERSION:2.0
PRODID:-//Santuário de Fátima//NONSGML SF2ICAL v1.0//FR
METHOD:PUBLISH
X-WR-CALNAME:Santuário de Fátima
X-ORIGINAL-URL:https://www.fatima.pt/
X-WR-CALDESC:Events for Santuário de Fátima
BEGIN:VEVENT
UID:4d31bdc1-78af-4b7c-8be8-1c6878d41395
DTSTAMP:20260424T001034Z
DTSTART:20260425T143000Z
DTEND:20260425T150000Z
LOCATION:
SUMMARY:XVI Encontro de Coros Infantis
DESCRIPTION:
END:VEVENT
END:VCALENDAR
