BEGIN:VCALENDAR
VERSION:2.0
PRODID:-//Santuário de Fátima//NONSGML SF2ICAL v1.0//IT
METHOD:PUBLISH
X-WR-CALNAME:Santuário de Fátima
X-ORIGINAL-URL:https://www.fatima.pt/
X-WR-CALDESC:Events for Santuário de Fátima
BEGIN:VEVENT
UID:c72637d6-65a8-4d45-8cfa-965bfc19e099
DTSTAMP:20260424T091323Z
DTSTART;VALUE=DATE:20261009
DTEND;VALUE=DATE:20261010
LOCATION:
SUMMARY:A contas com Fátima. Conversas para crescer na fé, na esperança 
	e no amor I
DESCRIPTION:
END:VEVENT
END:VCALENDAR
