BEGIN:VCALENDAR
VERSION:2.0
PRODID:-//Santuário de Fátima//NONSGML SF2ICAL v1.0//IT
METHOD:PUBLISH
X-WR-CALNAME:Santuário de Fátima
X-ORIGINAL-URL:https://www.fatima.pt/
X-WR-CALDESC:Events for Santuário de Fátima
BEGIN:VEVENT
UID:7a6f8a9f-da85-4836-9842-3fbf842ea47c
DTSTAMP:20260423T153628Z
DTSTART;VALUE=DATE:20320305
DTEND;VALUE=DATE:20320306
LOCATION:
SUMMARY:Aniversário do nascimento de Santa Jacinta Marto
DESCRIPTION:
END:VEVENT
END:VCALENDAR
