BEGIN:VCALENDAR
VERSION:2.0
PRODID:-//Santuário de Fátima//NONSGML SF2ICAL v1.0//IT
METHOD:PUBLISH
X-WR-CALNAME:Santuário de Fátima
X-ORIGINAL-URL:https://www.fatima.pt/
X-WR-CALDESC:Events for Santuário de Fátima
BEGIN:VEVENT
UID:458bb57b-c751-48da-bda1-048d53d910d0
DTSTAMP:20260424T041839Z
DTSTART;VALUE=DATE:20270305
DTEND;VALUE=DATE:20270306
LOCATION:
SUMMARY:Aniversário do nascimento de Santa Jacinta Marto
DESCRIPTION:
END:VEVENT
END:VCALENDAR
