BEGIN:VCALENDAR
VERSION:2.0
PRODID:-//Santuário de Fátima//NONSGML SF2ICAL v1.0//IT
METHOD:PUBLISH
X-WR-CALNAME:Santuário de Fátima
X-ORIGINAL-URL:https://www.fatima.pt/
X-WR-CALDESC:Events for Santuário de Fátima
BEGIN:VEVENT
UID:32f5c205-ed2e-4361-bce6-0d3695dd3737
DTSTAMP:20260423T132921Z
DTSTART;VALUE=DATE:20290101
DTEND;VALUE=DATE:20290102
LOCATION:
SUMMARY:Aniversário do Sagrado Lausperene
DESCRIPTION:
END:VEVENT
END:VCALENDAR
