BEGIN:VCALENDAR
VERSION:2.0
PRODID:-//Santuário de Fátima//NONSGML SF2ICAL v1.0//IT
METHOD:PUBLISH
X-WR-CALNAME:Santuário de Fátima
X-ORIGINAL-URL:https://www.fatima.pt/
X-WR-CALDESC:Events for Santuário de Fátima
BEGIN:VEVENT
UID:80817071-7849-4044-bc8a-d1e6812aec2d
DTSTAMP:20260422T171701Z
DTSTART;VALUE=DATE:20260701
DTEND;VALUE=DATE:20260704
LOCATION:
SUMMARY:Cursos de Verão do Santuário de Fátima | 11.ª edição
DESCRIPTION:
END:VEVENT
END:VCALENDAR
