BEGIN:VCALENDAR
VERSION:2.0
PRODID:-//Santuário de Fátima//NONSGML SF2ICAL v1.0//IT
METHOD:PUBLISH
X-WR-CALNAME:Santuário de Fátima
X-ORIGINAL-URL:https://www.fatima.pt/
X-WR-CALDESC:Events for Santuário de Fátima
BEGIN:VEVENT
UID:ee381ec8-2881-49c7-bc39-abf72ac43b07
DTSTAMP:20260423T180109Z
DTSTART;VALUE=DATE:20320220
DTEND;VALUE=DATE:20320221
LOCATION:Festa
SUMMARY:Festa dos Santos Francisco e Jacinta Marto
DESCRIPTION:
END:VEVENT
END:VCALENDAR
