BEGIN:VCALENDAR
VERSION:2.0
PRODID:-//Santuário de Fátima//NONSGML SF2ICAL v1.0//IT
METHOD:PUBLISH
X-WR-CALNAME:Santuário de Fátima
X-ORIGINAL-URL:https://www.fatima.pt/
X-WR-CALDESC:Events for Santuário de Fátima
BEGIN:VEVENT
UID:e8711881-797e-41ae-9bdd-b9488acf0f59
DTSTAMP:20260422T061727Z
DTSTART;VALUE=DATE:20260424
DTEND;VALUE=DATE:20260425
LOCATION:
SUMMARY:Lectio Divina Preparatória do Domingo
DESCRIPTION:
END:VEVENT
END:VCALENDAR
