BEGIN:VCALENDAR
VERSION:2.0
PRODID:-//Santuário de Fátima//NONSGML SF2ICAL v1.0//IT
METHOD:PUBLISH
X-WR-CALNAME:Santuário de Fátima
X-ORIGINAL-URL:https://www.fatima.pt/
X-WR-CALDESC:Events for Santuário de Fátima
BEGIN:VEVENT
UID:5f76af86-d6bb-44a6-bd28-0e4b4f94ba0f
DTSTAMP:20260422T081159Z
DTSTART;VALUE=DATE:20260529
DTEND;VALUE=DATE:20260530
LOCATION:
SUMMARY:Lectio Divina Preparatória do Domingo
DESCRIPTION:
END:VEVENT
END:VCALENDAR
