BEGIN:VCALENDAR
VERSION:2.0
PRODID:-//Santuário de Fátima//NONSGML SF2ICAL v1.0//IT
METHOD:PUBLISH
X-WR-CALNAME:Santuário de Fátima
X-ORIGINAL-URL:https://www.fatima.pt/
X-WR-CALDESC:Events for Santuário de Fátima
BEGIN:VEVENT
UID:4e7abe8a-5647-4115-bb48-1f44a141326d
DTSTAMP:20260422T060821Z
DTSTART;VALUE=DATE:20260605
DTEND;VALUE=DATE:20260606
LOCATION:
SUMMARY:Lectio Divina Preparatória do Domingo
DESCRIPTION:
END:VEVENT
END:VCALENDAR
