BEGIN:VCALENDAR
VERSION:2.0
PRODID:-//Santuário de Fátima//NONSGML SF2ICAL v1.0//IT
METHOD:PUBLISH
X-WR-CALNAME:Santuário de Fátima
X-ORIGINAL-URL:https://www.fatima.pt/
X-WR-CALDESC:Events for Santuário de Fátima
BEGIN:VEVENT
UID:ca7d3a8d-af3e-401e-afb8-9b1f7d49ebe6
DTSTAMP:20260423T040449Z
DTSTART;VALUE=DATE:20260610
DTEND;VALUE=DATE:20260611
LOCATION:
SUMMARY:Peregrinação das Crianças
DESCRIPTION:
END:VEVENT
END:VCALENDAR
