BEGIN:VCALENDAR
VERSION:2.0
PRODID:-//Santuário de Fátima//NONSGML SF2ICAL v1.0//IT
METHOD:PUBLISH
X-WR-CALNAME:Santuário de Fátima
X-ORIGINAL-URL:https://www.fatima.pt/
X-WR-CALDESC:Events for Santuário de Fátima
BEGIN:VEVENT
UID:bedd4e2d-6237-420b-a8da-efc9db8d056b
DTSTAMP:20260422T165800Z
DTSTART;VALUE=DATE:20260704
DTEND;VALUE=DATE:20260705
LOCATION:
SUMMARY:Primeiro Sábado
DESCRIPTION:
END:VEVENT
END:VCALENDAR
