BEGIN:VCALENDAR
VERSION:2.0
PRODID:-//Santuário de Fátima//NONSGML SF2ICAL v1.0//IT
METHOD:PUBLISH
X-WR-CALNAME:Santuário de Fátima
X-ORIGINAL-URL:https://www.fatima.pt/
X-WR-CALDESC:Events for Santuário de Fátima
BEGIN:VEVENT
UID:d23a22ca-9414-47a0-8ae9-8345af0229ab
DTSTAMP:20260423T062831Z
DTSTART;VALUE=DATE:20261015
DTEND;VALUE=DATE:20261019
LOCATION:
SUMMARY:Retiro de Doentes
DESCRIPTION:
END:VEVENT
END:VCALENDAR
