BEGIN:VCALENDAR
VERSION:2.0
PRODID:-//Santuário de Fátima//NONSGML SF2ICAL v1.0//IT
METHOD:PUBLISH
X-WR-CALNAME:Santuário de Fátima
X-ORIGINAL-URL:https://www.fatima.pt/
X-WR-CALDESC:Events for Santuário de Fátima
BEGIN:VEVENT
UID:8e927e62-0efa-4e35-b45c-df109dab74f4
DTSTAMP:20260424T040327Z
DTSTART;VALUE=DATE:20261022
DTEND;VALUE=DATE:20261026
LOCATION:
SUMMARY:Retiro de Doentes
DESCRIPTION:
END:VEVENT
END:VCALENDAR
