BEGIN:VCALENDAR
VERSION:2.0
PRODID:-//Santuário de Fátima//NONSGML SF2ICAL v1.0//IT
METHOD:PUBLISH
X-WR-CALNAME:Santuário de Fátima
X-ORIGINAL-URL:https://www.fatima.pt/
X-WR-CALDESC:Events for Santuário de Fátima
BEGIN:VEVENT
UID:4e3cbecc-ba0c-4092-8b87-1f4a88f7a2b9
DTSTAMP:20260423T070618Z
DTSTART:20260902T201500Z
DTEND:20260902T211500Z
LOCATION:
SUMMARY:Visita Temática à Exposição Temporária
DESCRIPTION:
END:VEVENT
END:VCALENDAR
