BEGIN:VCALENDAR
VERSION:2.0
PRODID:-//Santuário de Fátima//NONSGML SF2ICAL v1.0//PL
METHOD:PUBLISH
X-WR-CALNAME:Santuário de Fátima
X-ORIGINAL-URL:https://www.fatima.pt/
X-WR-CALDESC:Events for Santuário de Fátima
BEGIN:VEVENT
UID:0cd8fc28-7e3d-4752-b96c-5d58e0860d69
DTSTAMP:20260423T042129Z
DTSTART;VALUE=DATE:20261016
DTEND;VALUE=DATE:20261017
LOCATION:
SUMMARY:A contas com Fátima. Conversas para crescer na fé, na esperança 
	e no amor II
DESCRIPTION:
END:VEVENT
END:VCALENDAR
