BEGIN:VCALENDAR
VERSION:2.0
PRODID:-//Santuário de Fátima//NONSGML SF2ICAL v1.0//PL
METHOD:PUBLISH
X-WR-CALNAME:Santuário de Fátima
X-ORIGINAL-URL:https://www.fatima.pt/
X-WR-CALDESC:Events for Santuário de Fátima
BEGIN:VEVENT
UID:74e48414-0c50-4372-857f-3becd8dc7ec0
DTSTAMP:20260423T153627Z
DTSTART;VALUE=DATE:20350305
DTEND;VALUE=DATE:20350306
LOCATION:
SUMMARY:Aniversário do nascimento de Santa Jacinta Marto
DESCRIPTION:
END:VEVENT
END:VCALENDAR
