BEGIN:VCALENDAR
VERSION:2.0
PRODID:-//Santuário de Fátima//NONSGML SF2ICAL v1.0//PL
METHOD:PUBLISH
X-WR-CALNAME:Santuário de Fátima
X-ORIGINAL-URL:https://www.fatima.pt/
X-WR-CALDESC:Events for Santuário de Fátima
BEGIN:VEVENT
UID:8a4a7aba-5fdc-45af-9875-dbc3a5c94f67
DTSTAMP:20260424T000856Z
DTSTART:20261220T170000Z
DTEND:20261220T180000Z
LOCATION:
SUMMARY:Concerto do Natal
DESCRIPTION:
END:VEVENT
END:VCALENDAR
