BEGIN:VCALENDAR
VERSION:2.0
PRODID:-//Santuário de Fátima//NONSGML SF2ICAL v1.0//PL
METHOD:PUBLISH
X-WR-CALNAME:Santuário de Fátima
X-ORIGINAL-URL:https://www.fatima.pt/
X-WR-CALDESC:Events for Santuário de Fátima
BEGIN:VEVENT
UID:8d987d68-2dd4-433d-8a1a-c5b073eea0a5
DTSTAMP:20260423T131519Z
DTSTART;VALUE=DATE:20321113
DTEND;VALUE=DATE:20321114
LOCATION:Santíssima Trindade
SUMMARY:Dedicação da Basílica da Santíssima Trindade
DESCRIPTION:
END:VEVENT
END:VCALENDAR
