BEGIN:VCALENDAR
VERSION:2.0
PRODID:-//Santuário de Fátima//NONSGML SF2ICAL v1.0//PL
METHOD:PUBLISH
X-WR-CALNAME:Santuário de Fátima
X-ORIGINAL-URL:https://www.fatima.pt/
X-WR-CALDESC:Events for Santuário de Fátima
BEGIN:VEVENT
UID:52d0a220-788f-438d-b293-6cb68358a498
DTSTAMP:20260423T033401Z
DTSTART;VALUE=DATE:20260726
DTEND;VALUE=DATE:20260727
LOCATION:
SUMMARY:Dia dos avós, na Festa Litúrgica de S. Joaquim e Santa Ana
DESCRIPTION:
END:VEVENT
END:VCALENDAR
