BEGIN:VCALENDAR
VERSION:2.0
PRODID:-//Santuário de Fátima//NONSGML SF2ICAL v1.0//PL
METHOD:PUBLISH
X-WR-CALNAME:Santuário de Fátima
X-ORIGINAL-URL:https://www.fatima.pt/
X-WR-CALDESC:Events for Santuário de Fátima
BEGIN:VEVENT
UID:3991c961-5728-4a05-a339-7bbca13631fa
DTSTAMP:20260423T110223Z
DTSTART;VALUE=DATE:20310220
DTEND;VALUE=DATE:20310221
LOCATION:Festa
SUMMARY:Festa dos Santos Francisco e Jacinta Marto
DESCRIPTION:
END:VEVENT
END:VCALENDAR
