BEGIN:VCALENDAR
VERSION:2.0
PRODID:-//Santuário de Fátima//NONSGML SF2ICAL v1.0//PL
METHOD:PUBLISH
X-WR-CALNAME:Santuário de Fátima
X-ORIGINAL-URL:https://www.fatima.pt/
X-WR-CALDESC:Events for Santuário de Fátima
BEGIN:VEVENT
UID:4694b664-3f9c-4503-83f8-072ab92349b9
DTSTAMP:20260423T110738Z
DTSTART;VALUE=DATE:20301208
DTEND;VALUE=DATE:20301209
LOCATION:
SUMMARY:Imaculada Conceição da Virgem Santa Maria - SOLENIDADE
DESCRIPTION:
END:VEVENT
END:VCALENDAR
