BEGIN:VCALENDAR
VERSION:2.0
PRODID:-//Santuário de Fátima//NONSGML SF2ICAL v1.0//PL
METHOD:PUBLISH
X-WR-CALNAME:Santuário de Fátima
X-ORIGINAL-URL:https://www.fatima.pt/
X-WR-CALDESC:Events for Santuário de Fátima
BEGIN:VEVENT
UID:e30d13fd-1e45-4a52-a6c0-ab3a993a0171
DTSTAMP:20260423T131604Z
DTSTART;VALUE=DATE:20321208
DTEND;VALUE=DATE:20321209
LOCATION:
SUMMARY:Imaculada Conceição da Virgem Santa Maria - SOLENIDADE
DESCRIPTION:
END:VEVENT
END:VCALENDAR
