BEGIN:VCALENDAR
VERSION:2.0
PRODID:-//Santuário de Fátima//NONSGML SF2ICAL v1.0//PL
METHOD:PUBLISH
X-WR-CALNAME:Santuário de Fátima
X-ORIGINAL-URL:https://www.fatima.pt/
X-WR-CALDESC:Events for Santuário de Fátima
BEGIN:VEVENT
UID:adaf5d5f-de45-4d11-b3a2-fdb4f36776e4
DTSTAMP:20260423T131519Z
DTSTART;VALUE=DATE:20310812
DTEND;VALUE=DATE:20310813
LOCATION:
SUMMARY:Peregrinação Internacional Aniversária
DESCRIPTION:
END:VEVENT
END:VCALENDAR
