BEGIN:VCALENDAR
VERSION:2.0
PRODID:-//Santuário de Fátima//NONSGML SF2ICAL v1.0//PL
METHOD:PUBLISH
X-WR-CALNAME:Santuário de Fátima
X-ORIGINAL-URL:https://www.fatima.pt/
X-WR-CALDESC:Events for Santuário de Fátima
BEGIN:VEVENT
UID:901260e2-c16f-4372-9fd5-c1668049bc11
DTSTAMP:20260423T042224Z
DTSTART;VALUE=DATE:20260820
DTEND;VALUE=DATE:20260827
LOCATION:
SUMMARY:Vem para o meio. Férias para pais de pessoas com deficiência –
	 5.ª semana
DESCRIPTION:
END:VEVENT
END:VCALENDAR
