BEGIN:VCALENDAR
VERSION:2.0
PRODID:-//Santuário de Fátima//NONSGML SF2ICAL v1.0//PL
METHOD:PUBLISH
X-WR-CALNAME:Santuário de Fátima
X-ORIGINAL-URL:https://www.fatima.pt/
X-WR-CALDESC:Events for Santuário de Fátima
BEGIN:VEVENT
UID:f71f07ef-d2ed-45b9-a820-b47c0871b2e0
DTSTAMP:20260423T131747Z
DTSTART;VALUE=DATE:20310814
DTEND;VALUE=DATE:20310815
LOCATION:
SUMMARY:Vigília da Assunção da Virgem de Santa Maria, com canto do hino 
	Akathistos
DESCRIPTION:
END:VEVENT
END:VCALENDAR
