BEGIN:VCALENDAR
VERSION:2.0
PRODID:-//Santuário de Fátima//NONSGML SF2ICAL v1.0//PL
METHOD:PUBLISH
X-WR-CALNAME:Santuário de Fátima
X-ORIGINAL-URL:https://www.fatima.pt/
X-WR-CALDESC:Events for Santuário de Fátima
BEGIN:VEVENT
UID:5750a7a0-7b6b-49f1-a11d-104a86b2175d
DTSTAMP:20260423T131752Z
DTSTART;VALUE=DATE:20320814
DTEND;VALUE=DATE:20320815
LOCATION:
SUMMARY:Vigília da Assunção da Virgem de Santa Maria, com canto do hino 
	Akathistos
DESCRIPTION:
END:VEVENT
END:VCALENDAR
