BEGIN:VCALENDAR
VERSION:2.0
PRODID:-//Santuário de Fátima//NONSGML SF2ICAL v1.0//PT
METHOD:PUBLISH
X-WR-CALNAME:Santuário de Fátima
X-ORIGINAL-URL:https://www.fatima.pt/
X-WR-CALDESC:Events for Santuário de Fátima
BEGIN:VEVENT
UID:d8c42834-a1a4-4a4e-8507-9138cd35c653
DTSTAMP:20260423T153555Z
DTSTART;VALUE=DATE:20330322
DTEND;VALUE=DATE:20330323
LOCATION:
SUMMARY:Aniversário do nascimento da Irmã Lúcia
DESCRIPTION:
END:VEVENT
END:VCALENDAR
