BEGIN:VCALENDAR
VERSION:2.0
PRODID:-//Santuário de Fátima//NONSGML SF2ICAL v1.0//PT
METHOD:PUBLISH
X-WR-CALNAME:Santuário de Fátima
X-ORIGINAL-URL:https://www.fatima.pt/
X-WR-CALDESC:Events for Santuário de Fátima
BEGIN:VEVENT
UID:a70157f1-4305-4f54-9d33-e8620c6aa894
DTSTAMP:20260423T175140Z
DTSTART;VALUE=DATE:20350322
DTEND;VALUE=DATE:20350323
LOCATION:
SUMMARY:Aniversário do nascimento da Irmã Lúcia
DESCRIPTION:
END:VEVENT
END:VCALENDAR
