BEGIN:VCALENDAR
VERSION:2.0
PRODID:-//Santuário de Fátima//NONSGML SF2ICAL v1.0//PT
METHOD:PUBLISH
X-WR-CALNAME:Santuário de Fátima
X-ORIGINAL-URL:https://www.fatima.pt/
X-WR-CALDESC:Events for Santuário de Fátima
BEGIN:VEVENT
UID:47f7b707-d463-4891-9351-05d946ed5c54
DTSTAMP:20260423T131650Z
DTSTART;VALUE=DATE:20310305
DTEND;VALUE=DATE:20310306
LOCATION:
SUMMARY:Aniversário do nascimento de Santa Jacinta Marto
DESCRIPTION:
END:VEVENT
END:VCALENDAR
