BEGIN:VCALENDAR
VERSION:2.0
PRODID:-//Santuário de Fátima//NONSGML SF2ICAL v1.0//PT
METHOD:PUBLISH
X-WR-CALNAME:Santuário de Fátima
X-ORIGINAL-URL:https://www.fatima.pt/
X-WR-CALDESC:Events for Santuário de Fátima
BEGIN:VEVENT
UID:dff42f04-7077-4cbc-ae81-8df63ad149b4
DTSTAMP:20260423T222622Z
DTSTART;VALUE=DATE:20360101
DTEND;VALUE=DATE:20360102
LOCATION:
SUMMARY:Aniversário do Sagrado Lausperene
DESCRIPTION:
END:VEVENT
END:VCALENDAR
