BEGIN:VCALENDAR
VERSION:2.0
PRODID:-//Santuário de Fátima//NONSGML SF2ICAL v1.0//PT
METHOD:PUBLISH
X-WR-CALNAME:Santuário de Fátima
X-ORIGINAL-URL:https://www.fatima.pt/
X-WR-CALDESC:Events for Santuário de Fátima
BEGIN:VEVENT
UID:ddf22d02-1007-477c-bac4-8cf6fc8c41e4
DTSTAMP:20260422T192555Z
DTSTART;VALUE=DATE:20270819
DTEND;VALUE=DATE:20270820
LOCATION:
SUMMARY:Celebração do aniversário das aparições de Nossa Senhora nos V
	alinhos
DESCRIPTION:
END:VEVENT
END:VCALENDAR
