BEGIN:VCALENDAR
VERSION:2.0
PRODID:-//Santuário de Fátima//NONSGML SF2ICAL v1.0//PT
METHOD:PUBLISH
X-WR-CALNAME:Santuário de Fátima
X-ORIGINAL-URL:https://www.fatima.pt/
X-WR-CALDESC:Events for Santuário de Fátima
BEGIN:VEVENT
UID:40e3b013-ad25-48d9-87be-124de2ba3be2
DTSTAMP:20260420T172134Z
DTSTART;VALUE=DATE:20260421
DTEND;VALUE=DATE:20260422
LOCATION:
SUMMARY:Celebrações e Grupos no dia 21 de abril de 2026
DESCRIPTION:
END:VEVENT
END:VCALENDAR
