BEGIN:VCALENDAR
VERSION:2.0
PRODID:-//Santuário de Fátima//NONSGML SF2ICAL v1.0//PT
METHOD:PUBLISH
X-WR-CALNAME:Santuário de Fátima
X-ORIGINAL-URL:https://www.fatima.pt/
X-WR-CALDESC:Events for Santuário de Fátima
BEGIN:VEVENT
UID:c5853575-ff08-4aea-a306-972a2c48a5a7
DTSTAMP:20260421T144833Z
DTSTART;VALUE=DATE:20260422
DTEND;VALUE=DATE:20260423
LOCATION:
SUMMARY:Celebrações e Grupos no dia 22 de abril de 2026
DESCRIPTION:
END:VEVENT
END:VCALENDAR
