BEGIN:VCALENDAR
VERSION:2.0
PRODID:-//Santuário de Fátima//NONSGML SF2ICAL v1.0//PT
METHOD:PUBLISH
X-WR-CALNAME:Santuário de Fátima
X-ORIGINAL-URL:https://www.fatima.pt/
X-WR-CALDESC:Events for Santuário de Fátima
BEGIN:VEVENT
UID:0631f6c1-7613-45bd-94a6-54879108e398
DTSTAMP:20260425T035400Z
DTSTART;VALUE=DATE:20260425
DTEND;VALUE=DATE:20260426
LOCATION:
SUMMARY:Celebrações e Grupos no dia 25 de abril de 2026
DESCRIPTION:
END:VEVENT
END:VCALENDAR
