BEGIN:VCALENDAR
VERSION:2.0
PRODID:-//Santuário de Fátima//NONSGML SF2ICAL v1.0//PT
METHOD:PUBLISH
X-WR-CALNAME:Santuário de Fátima
X-ORIGINAL-URL:https://www.fatima.pt/
X-WR-CALDESC:Events for Santuário de Fátima
BEGIN:VEVENT
UID:5447a4b7-58b9-4bb8-9dcb-06f215bd5343
DTSTAMP:20260426T030228Z
DTSTART;VALUE=DATE:20260426
DTEND;VALUE=DATE:20260427
LOCATION:
SUMMARY:Celebrações e Grupos no dia 26 de abril de 2026
DESCRIPTION:
END:VEVENT
END:VCALENDAR
