BEGIN:VCALENDAR
VERSION:2.0
PRODID:-//Santuário de Fátima//NONSGML SF2ICAL v1.0//PT
METHOD:PUBLISH
X-WR-CALNAME:Santuário de Fátima
X-ORIGINAL-URL:https://www.fatima.pt/
X-WR-CALDESC:Events for Santuário de Fátima
BEGIN:VEVENT
UID:3935c9c5-d6c2-4cca-b532-6b8109d9acf5
DTSTAMP:20260426T031653Z
DTSTART;VALUE=DATE:20260427
DTEND:20260427T112400Z
LOCATION:
SUMMARY:Celebrações e Grupos no dia 27 de abril de 2026
DESCRIPTION:
END:VEVENT
END:VCALENDAR
