BEGIN:VCALENDAR
VERSION:2.0
PRODID:-//Santuário de Fátima//NONSGML SF2ICAL v1.0//PT
METHOD:PUBLISH
X-WR-CALNAME:Santuário de Fátima
X-ORIGINAL-URL:https://www.fatima.pt/
X-WR-CALDESC:Events for Santuário de Fátima
BEGIN:VEVENT
UID:fe1e0eee-e341-4951-aafa-b3c035de87a0
DTSTAMP:20260423T175053Z
DTSTART;VALUE=DATE:20341113
DTEND;VALUE=DATE:20341114
LOCATION:Santíssima Trindade
SUMMARY:Dedicação da Basílica da Santíssima Trindade
DESCRIPTION:
END:VEVENT
END:VCALENDAR
